BEGIN:VCALENDAR
VERSION:2.0
PRODID:-// - ECPv5.9.1//NONSGML v1.0//EN
CALSCALE:GREGORIAN
METHOD:PUBLISH
X-ORIGINAL-URL:https://birding140.com
X-WR-CALDESC:Events for 
BEGIN:VTIMEZONE
TZID:UTC
BEGIN:STANDARD
TZOFFSETFROM:+0000
TZOFFSETTO:+0000
TZNAME:UTC
DTSTART:20140101T000000
END:STANDARD
END:VTIMEZONE
BEGIN:VEVENT
DTSTART;TZID=UTC:20140308T094500
DTEND;TZID=UTC:20140308T154500
DTSTAMP:20260421T081956
CREATED:20140209T110533Z
LAST-MODIFIED:20140209T154823Z
UID:327-1394271900-1394293500@birding140.com
SUMMARY:HBIC Recorders Forum 2014
DESCRIPTION:The Hampshire Biodiversity Information Centre Recorders Forum 2014 aims to give an overview of the variety of recording schemes and projects that take place in Hampshire. It is designed to encourage recorders and local recording groups to share their experiences and ideas. The programme for this year again reflects the diversity of species recording in Hampshire\, with many presentations specifically devoted to looking at local trends set against national trends. \nThere will be charge of £6 per person if you wish to enjoy the buffet lunch\, otherwise you are welcome to bring your own food. Tea and coffee will be available throughout the day. \nThe booking form can be found by following the link\, and the deadline for returning the form is the 26th February.  \n\n\n\n\n \n\n\nProgramme\n\n\n09.45\n10.00\nRegistration & Coffee\n\n\n10.00\n10.05\nWelcome & Introduction : Nicky Court\, HBIC Manager\n\n\n10.05\n10.35\nThe view over the horizon: Martin Rand\, Botanical Society of the British Isles\n\n\n10.35\n11.05\nThe Changing Fortunes of Hampshire’s Birds – A National Perspective. John Eyre\, Hampshire Ornithological Society\n\n\n11.05\n11.15\nRefreshments\n\n\n11.15\n11.45\nHow well are Hampshire’s butterflies doing? – Hampshire butterfly trends in a national context: DrAndy Barker\, Butterfly Conservation\n\n\n11.45\n12.15\nSetting up a network of reference sites : Nicky Court\, HBIC Manager\n\n\n12.15\n12.30\nDiscussion\n\n\n12.30\n13.45\nLunch & displays\n\n\n13.45\n14.05\nPondNet in Hampshire: DrNaomi Ewald\, Freshwater Habitats Trust\n\n\n14.05\n14.25\nNatterjack conservation – the long view: John Buckley\, Amphibian & Reptile Conservation\n\n\n14.25\n14.45\nSeasearch & Shoresearch : Dr Amy Marsden\, Hampshire & Isle of Wight Wildlife Trust\n\n\n14.45\n15.00\nRefreshments\n\n\n15.00\n15.20\nBeeWalk: Walking transects to monitor bumblebees: Richard Comont\, Bumblebee Conservation Trust\n\n\n15.20\n15.40\nRecording birds by sound: Brian Harrison\, Wildlife sound recordist\n\n\n15.40\n15.45\nSumming up and close
URL:https://birding140.com/event/hbic-recorders-forum-2014/
LOCATION:Littleton Millennium Memorial Hall\, SO22 6QL\, Littleton\, Hampshire\, Reino Unido
ORGANIZER;CN="Hampshire%20Biodiversity%20Information%20Centre":MAILTO:enquiries.hbic@hants.gov.uk
END:VEVENT
END:VCALENDAR