BEGIN:VCALENDAR
VERSION:2.0
PRODID:-// - ECPv5.9.1//NONSGML v1.0//EN
CALSCALE:GREGORIAN
METHOD:PUBLISH
X-ORIGINAL-URL:https://birding140.com
X-WR-CALDESC:Events for 
BEGIN:VTIMEZONE
TZID:UTC
BEGIN:STANDARD
TZOFFSETFROM:+0000
TZOFFSETTO:+0000
TZNAME:UTC
DTSTART:20140101T000000
END:STANDARD
END:VTIMEZONE
BEGIN:VEVENT
DTSTART;TZID=UTC:20140919T183000
DTEND;TZID=UTC:20140921T170000
DTSTAMP:20260421T161329
CREATED:20140830T144547Z
LAST-MODIFIED:20140830T144547Z
UID:573-1411151400-1411318800@birding140.com
SUMMARY:Watson Birds Festival 2014
DESCRIPTION:The aim of the Watson Bird Festival is to celebrate the work of Donald Watson\, once a local artist to St John’s Town of Dalry\, and bring together the magic of science and art. Several artists participate such as Amanda Jones\, John Threlfall or Sheena McCurrach among others. No matter what your interests; music\, art\, wildlife\, science or photography\, this festival has it all. At the following below link you can download the programme festival. \nProgramme watson birds festival 2014
URL:https://birding140.com/event/watson-birds-festival-2014/
LOCATION:St John’s Town of Dalry\, St John’s Town of Dalry\, Scotland\, United Kingdom
END:VEVENT
END:VCALENDAR